BEGIN:VCALENDAR
VERSION:2.0
PRODID:icalendar-ruby
CALSCALE:GREGORIAN
METHOD:PUBLISH
BEGIN:VEVENT
DTSTAMP:20260421T095359Z
UID:ef09bf09-1cf5-44e4-bbc0-fbc0e25f4c4f
DTSTART:20260314T120000
DTEND:20260314T220000
DESCRIPTION:<p>Johannesburg! 🇿🇦 We are thrilled to announce that Nora
  En Pure is bringing the <em>third edition</em> of <strong>Purified</stron
 g> to Johannesburg\, South Africa! 💙</p><p>Join us on <strong><em>Satur
 day\, 14 March</em></strong> at James & Ethel Gray Park for #PurifiedJohan
 nesburg ✨</p><p>Tickets & tables are available now at <a href="http://pu
 rified.howler.co.za" target="_blank">purified.howler.co.za</a>.</p><p><str
 ong>SET TIMES:</strong></p><p><span>20:30 Chris Luno</span></p><p><span>18
 :00 Nora en Pure</span></p><p><span>16:30 Monkey Safari</span></p><p><span
 >15:00 Karyendasoul</span></p><p><span>13:30 Jordan Arts</span></p><p><spa
 n>12:00 Cornelius SA</span></p><p>For table booking inquiries / VIP bookin
 gs please email tables@anythinggoes.co.za</p><p>✈️ <strong><em>Luxury 
 Adventure Club – Our Official Accommodation & Experience Partner. </em>
 </strong><em>Stay in style and enjoy curated experiences near our event. <
 /em><a href="https://luxuryadventureclub.com/connect-with-us/#makeBooking"
  target="_blank"><em>Enquire now!</em></a></p><p>This event is brought to 
 you by Anything Goes & Love Music.</p>
LOCATION:Westwood and North\, Melrose\, Johannesburg 2000
SUMMARY:Purified\, Johannesburg - 14 March 2026
URL;VALUE=URI:https://purified.howler.co.za/purifiedjhb26
END:VEVENT
END:VCALENDAR
