BEGIN:VCALENDAR
VERSION:2.0
PRODID:icalendar-ruby
CALSCALE:GREGORIAN
METHOD:PUBLISH
BEGIN:VEVENT
DTSTAMP:20260421T093424Z
UID:5c3393c7-b029-486f-ac46-637e19e3c6a4
DTSTART:20260313T180000
DTEND:20260314T020000
DESCRIPTION:<p>Cape Town! 🇿🇦 We are beyond excited to announce that <
 strong>Nora En Pure</strong> is bringing her signature sound to the Mother
  City! 💙</p><p>Join us on <strong><em>Friday\, March 13</em> </strong>a
 t Cabo Beach.</p><p>Tickets & tables are available now at <a href="http://
 purified.howler.co.za" target="_blank">purified.howler.co.za</a>.</p><p>Fo
 r table booking inquiries / VIP bookings please email tables@anythinggoes.
 co.za</p><p><strong>SET TIMES:</strong></p><p>00:30 Chris Luno</p><p>22:30
  Nora en Pure</p><p>21:00 Monkey Safari</p><p>19:30 <span>Cornelius SA</sp
 an></p><p>18:00 <span>Polar Inc. </span></p><p>✈️ <strong><em>Luxury 
 Adventure Club – Our Official Accommodation & Experience Partner. </em>
 </strong><em>Stay in style and enjoy curated experiences near our event. <
 /em><a href="https://luxuryadventureclub.com/connect-with-us/#makeBooking"
  target="_blank" style="color: rgb(118\, 79\, 219)\;"><em>Enquire now!</em
 ></a></p><p>This event is brought to you by Anything Goes & Love Music.</p
 ><p><br></p>
LOCATION:12 South Arm RD\, Victoria & Alfred Waterfront\, Cape Town\, 8002
SUMMARY:Purified\, Cape Town - 13 March 2026
URL;VALUE=URI:https://purified.howler.co.za/purifiedcpt26
END:VEVENT
END:VCALENDAR
